BEGIN:VCALENDAR
VERSION:2.0
PRODID:-//Gallery 161 - ECPv4.9.14//NONSGML v1.0//EN
CALSCALE:GREGORIAN
METHOD:PUBLISH
X-WR-CALNAME:Gallery 161
X-ORIGINAL-URL:https://www.gallery161.com.au
X-WR-CALDESC:Events for Gallery 161
BEGIN:VTIMEZONE
TZID:Australia/Sydney
BEGIN:STANDARD
TZOFFSETFROM:+1100
TZOFFSETTO:+1000
TZNAME:AEST
DTSTART:20200404T160000
END:STANDARD
BEGIN:DAYLIGHT
TZOFFSETFROM:+1000
TZOFFSETTO:+1100
TZNAME:AEDT
DTSTART:20201003T160000
END:DAYLIGHT
END:VTIMEZONE
BEGIN:VEVENT
DTSTART;TZID=Australia/Sydney:20200206T160000
DTEND;TZID=Australia/Sydney:20200206T170000
DTSTAMP:20200228T130156
CREATED:20191203T230408Z
LAST-MODIFIED:20191203T234759Z
UID:776-1581004800-1581008400@www.gallery161.com.au
SUMMARY:Kids Yoga (4 - 8)
DESCRIPTION:Hosted by Little Big Warrior \nThursdays at 4pm starting Thursday 6th February 2020 for 8 weeks. \n  \nInspired by yoga\, yoga therapy and mindful meditation\, we educate\, create and play in ways that will help guide our kids to focus\, recognise and handle emotions\, mind and body connection\, exercise and be healthy\, imagine\, be creative and to be kind to one another. \nKids Yoga works the whole body\, inner and outer\, calms the mind\, teaches stillness\, stretches and strengthens muscles\, promotes functioning organs and makes you FEEL GOOD!!! \nEach week is completely different\, we use music\, singing\, props and our bodies to interact\, learn and most important have fun. \n
URL:https://www.gallery161.com.au/event/kids-yoga-4-8/
LOCATION:Gallery 161\, 1/161 South Creek Road\, Cromer\, New South Wales\, 2099\, Australia
CATEGORIES:Kids,Workshop,Yoga
ATTACH;FMTTYPE=image/jpeg:https://www.gallery161.com.au/wp-content/uploads/2019/12/Kids-Yoga.jpg
END:VEVENT
BEGIN:VEVENT
DTSTART;TZID=Australia/Sydney:20200206T170000
DTEND;TZID=Australia/Sydney:20200206T180000
DTSTAMP:20200228T130156
CREATED:20191203T234649Z
LAST-MODIFIED:20191203T234759Z
UID:800-1581008400-1581012000@www.gallery161.com.au
SUMMARY:Tween Yoga (8-17)
DESCRIPTION:Hosted by Little Big Warrior \nThursdays at 5pm starting Thursday 6th February 2020 for 8 weeks. \n  \nInspired by yoga\, yoga therapy and mindful meditation\, we educate\, create and play in ways that will help guide our kids to focus\, recognise and handle emotions\, mind and body connection\, exercise and be healthy\, imagine\, be creative and to be kind to one another. \nKids Yoga works the whole body\, inner and outer\, calms the mind\, teaches stillness\, stretches and strengthens muscles\, promotes functioning organs and makes you FEEL GOOD!!! \nEach week is completely different\, we use music\, singing\, props and our bodies to interact\, learn and most important have fun. \n
URL:https://www.gallery161.com.au/event/tween-yoga-8-17-7/
LOCATION:Gallery 161\, 1/161 South Creek Road\, Cromer\, New South Wales\, 2099\, Australia
CATEGORIES:Kids,Workshop,Yoga
ATTACH;FMTTYPE=image/jpeg:https://www.gallery161.com.au/wp-content/uploads/2019/12/Kids-Yoga.jpg
END:VEVENT
BEGIN:VEVENT
DTSTART;TZID=Australia/Sydney:20200208T150000
DTEND;TZID=Australia/Sydney:20200208T170000
DTSTAMP:20200228T130156
CREATED:20200207T004305Z
LAST-MODIFIED:20200207T004305Z
UID:1797-1581174000-1581181200@www.gallery161.com.au
SUMMARY:Gallery Cats - Kids Art Classes
DESCRIPTION:Kids Art Classes \nCHILDREN’S ART CLASSES- SATURDAY AFTERNOONS \n  \nOur kids’ art classes are designed to be fun! \nWe encourage children to use their unique observation of the world to express themselves. Children will be given the opportunity to use a variety of medium to explore their natural creativity. \nEach week classes are based on a theme or technique\, with every term different. \n  \nAges 5+\, Saturdays\, 3 to 5pm.  $350\, for an 8 week term \nTerm 1\, 2020 begins Saturday\, February 8 \n  \nbookings \nwww.gallerycatssydney.com/test/bookings-kids-classes/ \nor \nphone : 0404 773 866 / 0425 317 277 \n
URL:https://www.gallery161.com.au/event/gallery-cats-kids-art-classes/
LOCATION:Gallery 161\, 1/161 South Creek Road\, Cromer\, New South Wales\, 2099\, Australia
CATEGORIES:Kids,Workshop
ATTACH;FMTTYPE=image/png:https://www.gallery161.com.au/wp-content/uploads/2020/02/Screen-Shot-2020-02-07-at-11.41.37-am.png
END:VEVENT
BEGIN:VEVENT
DTSTART;TZID=Australia/Sydney:20200212T160000
DTEND;TZID=Australia/Sydney:20200212T173000
DTSTAMP:20200228T130156
CREATED:20200207T003414Z
LAST-MODIFIED:20200207T003414Z
UID:1772-1581523200-1581528600@www.gallery161.com.au
SUMMARY:Bowerbird Art Classes
DESCRIPTION:Bowerbird Art Classes – Fun Creative classes for 8-12 year olds. \n  \nTO BOOK: Contact: \n\nKaren 0432 602 438\nClaire 0402 479 367\nbowerbirdartclasses@gmail.com\n\n  \n
URL:https://www.gallery161.com.au/event/bowerbird-art-classes-2/
LOCATION:Gallery 161\, 1/161 South Creek Road\, Cromer\, New South Wales\, 2099\, Australia
CATEGORIES:Kids,Workshop
ATTACH;FMTTYPE=image/png:https://www.gallery161.com.au/wp-content/uploads/2020/02/Copy-of-Copy-of-Copy-of-Bowerbird-Art-Classes-2.png
END:VEVENT
BEGIN:VEVENT
DTSTART;TZID=Australia/Sydney:20200213T160000
DTEND;TZID=Australia/Sydney:20200213T170000
DTSTAMP:20200228T130156
CREATED:20191203T230441Z
LAST-MODIFIED:20191203T234759Z
UID:779-1581609600-1581613200@www.gallery161.com.au
SUMMARY:Kids Yoga (4 - 8)
DESCRIPTION:Hosted by Little Big Warrior \nThursdays at 4pm starting Thursday 6th February 2020 for 8 weeks. \n  \nInspired by yoga\, yoga therapy and mindful meditation\, we educate\, create and play in ways that will help guide our kids to focus\, recognise and handle emotions\, mind and body connection\, exercise and be healthy\, imagine\, be creative and to be kind to one another. \nKids Yoga works the whole body\, inner and outer\, calms the mind\, teaches stillness\, stretches and strengthens muscles\, promotes functioning organs and makes you FEEL GOOD!!! \nEach week is completely different\, we use music\, singing\, props and our bodies to interact\, learn and most important have fun. \n
URL:https://www.gallery161.com.au/event/kids-yoga-4-8-2/
LOCATION:Gallery 161\, 1/161 South Creek Road\, Cromer\, New South Wales\, 2099\, Australia
CATEGORIES:Kids,Workshop,Yoga
ATTACH;FMTTYPE=image/jpeg:https://www.gallery161.com.au/wp-content/uploads/2019/12/Kids-Yoga.jpg
END:VEVENT
BEGIN:VEVENT
DTSTART;TZID=Australia/Sydney:20200213T170000
DTEND;TZID=Australia/Sydney:20200213T180000
DTSTAMP:20200228T130156
CREATED:20191203T234552Z
LAST-MODIFIED:20191203T234759Z
UID:801-1581613200-1581616800@www.gallery161.com.au
SUMMARY:Tween Yoga (8-17)
DESCRIPTION:Hosted by Little Big Warrior \nThursdays at 5pm starting Thursday 6th February 2020 for 8 weeks. \n  \nInspired by yoga\, yoga therapy and mindful meditation\, we educate\, create and play in ways that will help guide our kids to focus\, recognise and handle emotions\, mind and body connection\, exercise and be healthy\, imagine\, be creative and to be kind to one another. \nKids Yoga works the whole body\, inner and outer\, calms the mind\, teaches stillness\, stretches and strengthens muscles\, promotes functioning organs and makes you FEEL GOOD!!! \nEach week is completely different\, we use music\, singing\, props and our bodies to interact\, learn and most important have fun. \n
URL:https://www.gallery161.com.au/event/tween-yoga-8-17-6/
LOCATION:Gallery 161\, 1/161 South Creek Road\, Cromer\, New South Wales\, 2099\, Australia
CATEGORIES:Kids,Workshop,Yoga
ATTACH;FMTTYPE=image/jpeg:https://www.gallery161.com.au/wp-content/uploads/2019/12/Kids-Yoga.jpg
END:VEVENT
BEGIN:VEVENT
DTSTART;TZID=Australia/Sydney:20200215T150000
DTEND;TZID=Australia/Sydney:20200215T170000
DTSTAMP:20200228T130156
CREATED:20200207T004726Z
LAST-MODIFIED:20200207T004726Z
UID:1803-1581778800-1581786000@www.gallery161.com.au
SUMMARY:Gallery Cats - Kids Art Classes
DESCRIPTION:Kids Art Classes \nCHILDREN’S ART CLASSES- SATURDAY AFTERNOONS \n  \nOur kids’ art classes are designed to be fun! \nWe encourage children to use their unique observation of the world to express themselves. Children will be given the opportunity to use a variety of medium to explore their natural creativity. \nEach week classes are based on a theme or technique\, with every term different. \n  \nAges 5+\, Saturdays\, 3 to 5pm.  $350\, for an 8 week term \nTerm 1\, 2020 begins Saturday\, February 8 \n  \nbookings \nwww.gallerycatssydney.com/test/bookings-kids-classes/ \nor \nphone : 0404 773 866 / 0425 317 277 \n
URL:https://www.gallery161.com.au/event/gallery-cats-kids-art-classes-2/
LOCATION:Gallery 161\, 1/161 South Creek Road\, Cromer\, New South Wales\, 2099\, Australia
CATEGORIES:Kids,Workshop
ATTACH;FMTTYPE=image/png:https://www.gallery161.com.au/wp-content/uploads/2020/02/Screen-Shot-2020-02-07-at-11.41.37-am.png
END:VEVENT
BEGIN:VEVENT
DTSTART;TZID=Australia/Sydney:20200219T160000
DTEND;TZID=Australia/Sydney:20200219T173000
DTSTAMP:20200228T130156
CREATED:20200207T003454Z
LAST-MODIFIED:20200207T003501Z
UID:1776-1582128000-1582133400@www.gallery161.com.au
SUMMARY:Bowerbird Art Classes
DESCRIPTION:Bowerbird Art Classes – Fun Creative classes for 8-12 year olds. \n  \nTO BOOK: Contact: \n\nKaren 0432 602 438\nClaire 0402 479 367\nbowerbirdartclasses@gmail.com\n\n  \n
URL:https://www.gallery161.com.au/event/bowerbird-art-classes-3/
LOCATION:Gallery 161\, 1/161 South Creek Road\, Cromer\, New South Wales\, 2099\, Australia
CATEGORIES:Kids,Workshop
ATTACH;FMTTYPE=image/png:https://www.gallery161.com.au/wp-content/uploads/2020/02/Copy-of-Copy-of-Copy-of-Bowerbird-Art-Classes-2.png
END:VEVENT
BEGIN:VEVENT
DTSTART;TZID=Australia/Sydney:20200220T160000
DTEND;TZID=Australia/Sydney:20200220T170000
DTSTAMP:20200228T130156
CREATED:20191203T230506Z
LAST-MODIFIED:20191203T234759Z
UID:782-1582214400-1582218000@www.gallery161.com.au
SUMMARY:Kids Yoga (4 - 8)
DESCRIPTION:Hosted by Little Big Warrior \nThursdays at 4pm starting Thursday 6th February 2020 for 8 weeks. \n  \nInspired by yoga\, yoga therapy and mindful meditation\, we educate\, create and play in ways that will help guide our kids to focus\, recognise and handle emotions\, mind and body connection\, exercise and be healthy\, imagine\, be creative and to be kind to one another. \nKids Yoga works the whole body\, inner and outer\, calms the mind\, teaches stillness\, stretches and strengthens muscles\, promotes functioning organs and makes you FEEL GOOD!!! \nEach week is completely different\, we use music\, singing\, props and our bodies to interact\, learn and most important have fun. \n
URL:https://www.gallery161.com.au/event/kids-yoga-4-8-3/
LOCATION:Gallery 161\, 1/161 South Creek Road\, Cromer\, New South Wales\, 2099\, Australia
CATEGORIES:Kids,Workshop,Yoga
ATTACH;FMTTYPE=image/jpeg:https://www.gallery161.com.au/wp-content/uploads/2019/12/Kids-Yoga.jpg
END:VEVENT
BEGIN:VEVENT
DTSTART;TZID=Australia/Sydney:20200220T170000
DTEND;TZID=Australia/Sydney:20200220T180000
DTSTAMP:20200228T130156
CREATED:20191203T234307Z
LAST-MODIFIED:20191203T234758Z
UID:802-1582218000-1582221600@www.gallery161.com.au
SUMMARY:Tween Yoga (8-17)
DESCRIPTION:Hosted by Little Big Warrior \nThursdays at 5pm starting Thursday 6th February 2020 for 8 weeks. \n  \nInspired by yoga\, yoga therapy and mindful meditation\, we educate\, create and play in ways that will help guide our kids to focus\, recognise and handle emotions\, mind and body connection\, exercise and be healthy\, imagine\, be creative and to be kind to one another. \nKids Yoga works the whole body\, inner and outer\, calms the mind\, teaches stillness\, stretches and strengthens muscles\, promotes functioning organs and makes you FEEL GOOD!!! \nEach week is completely different\, we use music\, singing\, props and our bodies to interact\, learn and most important have fun. \n
URL:https://www.gallery161.com.au/event/tween-yoga-8-17-5/
LOCATION:Gallery 161\, 1/161 South Creek Road\, Cromer\, New South Wales\, 2099\, Australia
CATEGORIES:Kids,Workshop,Yoga
ATTACH;FMTTYPE=image/jpeg:https://www.gallery161.com.au/wp-content/uploads/2019/12/Kids-Yoga.jpg
END:VEVENT
BEGIN:VEVENT
DTSTART;TZID=Australia/Sydney:20200222T150000
DTEND;TZID=Australia/Sydney:20200222T170000
DTSTAMP:20200228T130156
CREATED:20200207T004845Z
LAST-MODIFIED:20200207T004845Z
UID:1801-1582383600-1582390800@www.gallery161.com.au
SUMMARY:Gallery Cats - Kids Art Classes
DESCRIPTION:Kids Art Classes \nCHILDREN’S ART CLASSES- SATURDAY AFTERNOONS \n  \nOur kids’ art classes are designed to be fun! \nWe encourage children to use their unique observation of the world to express themselves. Children will be given the opportunity to use a variety of medium to explore their natural creativity. \nEach week classes are based on a theme or technique\, with every term different. \n  \nAges 5+\, Saturdays\, 3 to 5pm.  $350\, for an 8 week term \nTerm 1\, 2020 begins Saturday\, February 8 \n  \nbookings \nwww.gallerycatssydney.com/test/bookings-kids-classes/ \nor \nphone : 0404 773 866 / 0425 317 277 \n
URL:https://www.gallery161.com.au/event/gallery-cats-kids-art-classes-3/
LOCATION:Gallery 161\, 1/161 South Creek Road\, Cromer\, New South Wales\, 2099\, Australia
CATEGORIES:Kids,Workshop
ATTACH;FMTTYPE=image/png:https://www.gallery161.com.au/wp-content/uploads/2020/02/Screen-Shot-2020-02-07-at-11.41.37-am.png
END:VEVENT
BEGIN:VEVENT
DTSTART;TZID=Australia/Sydney:20200226T160000
DTEND;TZID=Australia/Sydney:20200226T173000
DTSTAMP:20200228T130156
CREATED:20200207T003538Z
LAST-MODIFIED:20200207T003538Z
UID:1779-1582732800-1582738200@www.gallery161.com.au
SUMMARY:Bowerbird Art Classes
DESCRIPTION:Bowerbird Art Classes – Fun Creative classes for 8-12 year olds. \n  \nTO BOOK: Contact: \n\nKaren 0432 602 438\nClaire 0402 479 367\nbowerbirdartclasses@gmail.com\n\n  \n
URL:https://www.gallery161.com.au/event/bowerbird-art-classes-4/
LOCATION:Gallery 161\, 1/161 South Creek Road\, Cromer\, New South Wales\, 2099\, Australia
CATEGORIES:Kids,Workshop
ATTACH;FMTTYPE=image/png:https://www.gallery161.com.au/wp-content/uploads/2020/02/Copy-of-Copy-of-Copy-of-Bowerbird-Art-Classes-2.png
END:VEVENT
BEGIN:VEVENT
DTSTART;TZID=Australia/Sydney:20200227T160000
DTEND;TZID=Australia/Sydney:20200227T170000
DTSTAMP:20200228T130156
CREATED:20191203T230528Z
LAST-MODIFIED:20191203T234758Z
UID:785-1582819200-1582822800@www.gallery161.com.au
SUMMARY:Kids Yoga (4 - 8)
DESCRIPTION:Hosted by Little Big Warrior \nThursdays at 4pm starting Thursday 6th February 2020 for 8 weeks. \n  \nInspired by yoga\, yoga therapy and mindful meditation\, we educate\, create and play in ways that will help guide our kids to focus\, recognise and handle emotions\, mind and body connection\, exercise and be healthy\, imagine\, be creative and to be kind to one another. \nKids Yoga works the whole body\, inner and outer\, calms the mind\, teaches stillness\, stretches and strengthens muscles\, promotes functioning organs and makes you FEEL GOOD!!! \nEach week is completely different\, we use music\, singing\, props and our bodies to interact\, learn and most important have fun. \n
URL:https://www.gallery161.com.au/event/kids-yoga-4-8-4/
LOCATION:Gallery 161\, 1/161 South Creek Road\, Cromer\, New South Wales\, 2099\, Australia
CATEGORIES:Kids,Workshop,Yoga
ATTACH;FMTTYPE=image/jpeg:https://www.gallery161.com.au/wp-content/uploads/2019/12/Kids-Yoga.jpg
END:VEVENT
BEGIN:VEVENT
DTSTART;TZID=Australia/Sydney:20200227T170000
DTEND;TZID=Australia/Sydney:20200227T180000
DTSTAMP:20200228T130156
CREATED:20191203T234126Z
LAST-MODIFIED:20191203T234758Z
UID:806-1582822800-1582826400@www.gallery161.com.au
SUMMARY:Tween Yoga (8-17)
DESCRIPTION:Hosted by Little Big Warrior \nThursdays at 5pm starting Thursday 6th February 2020 for 8 weeks. \n  \nInspired by yoga\, yoga therapy and mindful meditation\, we educate\, create and play in ways that will help guide our kids to focus\, recognise and handle emotions\, mind and body connection\, exercise and be healthy\, imagine\, be creative and to be kind to one another. \nKids Yoga works the whole body\, inner and outer\, calms the mind\, teaches stillness\, stretches and strengthens muscles\, promotes functioning organs and makes you FEEL GOOD!!! \nEach week is completely different\, we use music\, singing\, props and our bodies to interact\, learn and most important have fun. \n
URL:https://www.gallery161.com.au/event/kids-yoga-4-8-9/
LOCATION:Gallery 161\, 1/161 South Creek Road\, Cromer\, New South Wales\, 2099\, Australia
CATEGORIES:Kids,Workshop,Yoga
ATTACH;FMTTYPE=image/jpeg:https://www.gallery161.com.au/wp-content/uploads/2019/12/Kids-Yoga.jpg
END:VEVENT
BEGIN:VEVENT
DTSTART;TZID=Australia/Sydney:20200229T150000
DTEND;TZID=Australia/Sydney:20200229T170000
DTSTAMP:20200228T130156
CREATED:20200207T004938Z
LAST-MODIFIED:20200207T004938Z
UID:1804-1582988400-1582995600@www.gallery161.com.au
SUMMARY:Gallery Cats - Kids Art Classes
DESCRIPTION:Kids Art Classes \nCHILDREN’S ART CLASSES- SATURDAY AFTERNOONS \n  \nOur kids’ art classes are designed to be fun! \nWe encourage children to use their unique observation of the world to express themselves. Children will be given the opportunity to use a variety of medium to explore their natural creativity. \nEach week classes are based on a theme or technique\, with every term different. \n  \nAges 5+\, Saturdays\, 3 to 5pm.  $350\, for an 8 week term \nTerm 1\, 2020 begins Saturday\, February 8 \n  \nbookings \nwww.gallerycatssydney.com/test/bookings-kids-classes/ \nor \nphone : 0404 773 866 / 0425 317 277 \n
URL:https://www.gallery161.com.au/event/gallery-cats-kids-art-classes-4/
LOCATION:Gallery 161\, 1/161 South Creek Road\, Cromer\, New South Wales\, 2099\, Australia
CATEGORIES:Kids,Workshop
ATTACH;FMTTYPE=image/png:https://www.gallery161.com.au/wp-content/uploads/2020/02/Screen-Shot-2020-02-07-at-11.41.37-am.png
END:VEVENT
END:VCALENDAR